Package: BloodGen3Module Version: 1.18.0 Command: /home/biocbuild/bbs-3.22-bioc/R/bin/R CMD INSTALL BloodGen3Module StartedAt: 2025-11-11 15:30:35 -0500 (Tue, 11 Nov 2025) EndedAt: 2025-11-11 15:31:08 -0500 (Tue, 11 Nov 2025) EllapsedTime: 32.9 seconds RetCode: 0 Status: OK