Package: BloodGen3Module Version: 1.16.0 Command: /home/biocbuild/R/R/bin/R CMD build --keep-empty-dirs --no-resave-data BloodGen3Module StartedAt: 2025-09-25 23:15:52 -0000 (Thu, 25 Sep 2025) EndedAt: 2025-09-25 23:28:51 -0000 (Thu, 25 Sep 2025) EllapsedTime: 779.2 seconds RetCode: 0 Status: OK PackageFile: BloodGen3Module_1.16.0.tar.gz PackageFileSize: 179.3 KiB