Package: BiocWorkflowTools Version: 1.36.0 Command: /home/biocbuild/R/R/bin/R CMD INSTALL BiocWorkflowTools StartedAt: 2025-11-10 21:16:49 -0000 (Mon, 10 Nov 2025) EndedAt: 2025-11-10 21:17:10 -0000 (Mon, 10 Nov 2025) EllapsedTime: 21.5 seconds RetCode: 0 Status: OK