Package: BiocWorkflowTools Version: 1.36.0 Command: /home/biocbuild/R/R/bin/R CMD build --keep-empty-dirs --no-resave-data BiocWorkflowTools StartedAt: 2025-11-11 00:01:30 -0000 (Tue, 11 Nov 2025) EndedAt: 2025-11-11 00:01:38 -0000 (Tue, 11 Nov 2025) EllapsedTime: 8.0 seconds RetCode: 0 Status: OK PackageFile: BiocWorkflowTools_1.36.0.tar.gz PackageFileSize: 999 KiB