Package: BiocWorkflowTools Version: 1.34.0 Command: E:\biocbuild\bbs-3.21-bioc\R\bin\R.exe CMD INSTALL BiocWorkflowTools StartedAt: 2025-08-14 15:34:29 -0400 (Thu, 14 Aug 2025) EndedAt: 2025-08-14 15:34:55 -0400 (Thu, 14 Aug 2025) EllapsedTime: 25.7 seconds RetCode: 0 Status: OK