Package: BiocWorkflowTools Version: 1.34.0 Command: chmod a+r BiocWorkflowTools -R && E:\biocbuild\bbs-3.21-bioc\R\bin\R.exe CMD build --keep-empty-dirs --no-resave-data BiocWorkflowTools StartedAt: 2025-08-14 17:40:21 -0400 (Thu, 14 Aug 2025) EndedAt: 2025-08-14 17:40:52 -0400 (Thu, 14 Aug 2025) EllapsedTime: 31.3 seconds RetCode: 0 Status: OK PackageFile: BiocWorkflowTools_1.34.0.tar.gz PackageFileSize: 974.9 KiB