Package: BiocWorkflowTools Version: 1.34.0 Command: rm -rf BiocWorkflowTools.buildbin-libdir && mkdir BiocWorkflowTools.buildbin-libdir && E:\biocbuild\bbs-3.21-bioc\R\bin\R.exe CMD INSTALL --build --library=BiocWorkflowTools.buildbin-libdir BiocWorkflowTools_1.34.0.tar.gz StartedAt: 2025-08-15 08:51:49 -0400 (Fri, 15 Aug 2025) EndedAt: 2025-08-15 08:52:51 -0400 (Fri, 15 Aug 2025) EllapsedTime: 61.2 seconds RetCode: 0 Status: OK PackageFile: BiocWorkflowTools_1.34.0.zip PackageFileSize: 694.2 KiB