Package: BiocWorkflowTools Version: 1.36.0 Command: /home/biocbuild/bbs-3.22-bioc/R/bin/R CMD check --install=check:BiocWorkflowTools.install-out.txt --library=/home/biocbuild/bbs-3.22-bioc/R/site-library --timings BiocWorkflowTools_1.36.0.tar.gz StartedAt: 2025-11-11 21:39:00 -0500 (Tue, 11 Nov 2025) EndedAt: 2025-11-11 21:39:25 -0500 (Tue, 11 Nov 2025) EllapsedTime: 25.0 seconds RetCode: 0 Status: OK CheckDir: BiocWorkflowTools.Rcheck Warnings: 0