Package: BiocWorkflowTools Version: 1.36.0 Command: /home/biocbuild/bbs-3.22-bioc/R/bin/R CMD build --keep-empty-dirs --no-resave-data --md5 BiocWorkflowTools StartedAt: 2025-11-11 16:34:51 -0500 (Tue, 11 Nov 2025) EndedAt: 2025-11-11 16:34:57 -0500 (Tue, 11 Nov 2025) EllapsedTime: 6.0 seconds RetCode: 0 Status: OK PackageFile: BiocWorkflowTools_1.36.0.tar.gz PackageFileSize: 975.5 KiB