Package: BiocWorkflowTools Version: 1.34.0 Command: rm -rf BiocWorkflowTools.buildbin-libdir && mkdir BiocWorkflowTools.buildbin-libdir && /Users/biocbuild/BBS/utils/build-universal.sh BiocWorkflowTools_1.34.0.tar.gz /Library/Frameworks/R.framework/Resources/bin/R BiocWorkflowTools.buildbin-libdir StartedAt: 2025-09-26 13:00:40 -0400 (Fri, 26 Sep 2025) EndedAt: 2025-09-26 13:00:50 -0400 (Fri, 26 Sep 2025) EllapsedTime: 10.2 seconds RetCode: 0 Status: OK PackageFile: BiocWorkflowTools_1.34.0.tgz PackageFileSize: 688.3 KiB