Package: BiocVersion Version: 3.22.0 Command: /home/biocbuild/R/R/bin/R CMD build --keep-empty-dirs --no-resave-data BiocVersion StartedAt: 2025-11-14 00:02:42 -0000 (Fri, 14 Nov 2025) EndedAt: 2025-11-14 00:02:43 -0000 (Fri, 14 Nov 2025) EllapsedTime: 1.0 seconds RetCode: 0 Status: OK PackageFile: BiocVersion_3.22.0.tar.gz PackageFileSize: 997 bytes