Package: BiocVersion Version: 3.22.0 Command: /home/biocbuild/bbs-3.22-bioc/R/bin/R CMD build --keep-empty-dirs --no-resave-data --md5 BiocVersion StartedAt: 2025-11-11 16:34:44 -0500 (Tue, 11 Nov 2025) EndedAt: 2025-11-11 16:34:45 -0500 (Tue, 11 Nov 2025) EllapsedTime: 1.0 seconds RetCode: 0 Status: OK PackageFile: BiocVersion_3.22.0.tar.gz PackageFileSize: 1.088 KiB