Package: BiocVersion Version: 3.21.1 Command: /home/biocbuild/bbs-3.21-bioc/R/bin/R CMD INSTALL BiocVersion StartedAt: 2025-10-08 15:04:23 -0400 (Wed, 08 Oct 2025) EndedAt: 2025-10-08 15:04:45 -0400 (Wed, 08 Oct 2025) EllapsedTime: 21.8 seconds RetCode: 0 Status: OK