Package: BiocVersion Version: 3.22.0 Command: /Library/Frameworks/R.framework/Resources/bin/R CMD INSTALL BiocVersion StartedAt: 2025-11-20 15:52:36 -0500 (Thu, 20 Nov 2025) EndedAt: 2025-11-20 15:53:07 -0500 (Thu, 20 Nov 2025) EllapsedTime: 30.8 seconds RetCode: 0 Status: OK