Package: BiocVersion Version: 3.22.0 Command: /Library/Frameworks/R.framework/Resources/bin/R CMD build --keep-empty-dirs --no-resave-data BiocVersion StartedAt: 2025-11-20 18:17:02 -0500 (Thu, 20 Nov 2025) EndedAt: 2025-11-20 18:17:05 -0500 (Thu, 20 Nov 2025) EllapsedTime: 2.2 seconds RetCode: 0 Status: OK PackageFile: BiocVersion_3.22.0.tar.gz PackageFileSize: 1003 bytes