Package: BiocStyle Version: 2.38.0 Command: /home/biocbuild/bbs-3.22-bioc/R/bin/R CMD INSTALL BiocStyle StartedAt: 2025-11-11 15:11:10 -0500 (Tue, 11 Nov 2025) EndedAt: 2025-11-11 15:11:51 -0500 (Tue, 11 Nov 2025) EllapsedTime: 41.1 seconds RetCode: 0 Status: OK