Package: BiocStyle Version: 2.38.0 Command: /home/biocbuild/bbs-3.22-bioc/R/bin/R CMD check --install=check:BiocStyle.install-out.txt --library=/home/biocbuild/bbs-3.22-bioc/R/site-library --timings BiocStyle_2.38.0.tar.gz StartedAt: 2025-11-14 21:38:54 -0500 (Fri, 14 Nov 2025) EndedAt: 2025-11-14 21:39:40 -0500 (Fri, 14 Nov 2025) EllapsedTime: 46.1 seconds RetCode: 0 Status: OK CheckDir: BiocStyle.Rcheck Warnings: 0