Package: BiocStyle Version: 2.38.0 Command: /Library/Frameworks/R.framework/Resources/bin/R CMD INSTALL BiocStyle StartedAt: 2025-11-03 15:13:50 -0500 (Mon, 03 Nov 2025) EndedAt: 2025-11-03 15:14:38 -0500 (Mon, 03 Nov 2025) EllapsedTime: 48.5 seconds RetCode: 0 Status: OK