Package: BiocStyle Version: 2.38.0 Command: /Library/Frameworks/R.framework/Resources/bin/R CMD build --keep-empty-dirs --no-resave-data BiocStyle StartedAt: 2025-11-03 16:14:39 -0500 (Mon, 03 Nov 2025) EndedAt: 2025-11-03 16:14:58 -0500 (Mon, 03 Nov 2025) EllapsedTime: 19.4 seconds RetCode: 0 Status: OK PackageFile: BiocStyle_2.38.0.tar.gz PackageFileSize: 775.3 KiB