Package: BiocStyle Version: 2.38.0 Command: rm -rf BiocStyle.buildbin-libdir && mkdir BiocStyle.buildbin-libdir && /Users/biocbuild/BBS/utils/build-universal.sh BiocStyle_2.38.0.tar.gz /Library/Frameworks/R.framework/Resources/bin/R BiocStyle.buildbin-libdir StartedAt: 2025-11-04 01:29:50 -0500 (Tue, 04 Nov 2025) EndedAt: 2025-11-04 01:29:58 -0500 (Tue, 04 Nov 2025) EllapsedTime: 8.2 seconds RetCode: 0 Status: OK PackageFile: BiocStyle_2.38.0.tgz PackageFileSize: 835.8 KiB