Package: BiocStyle Version: 2.36.0 Command: /home/biocbuild/R/R/bin/R CMD build --keep-empty-dirs --no-resave-data BiocStyle StartedAt: 2025-10-13 23:08:04 -0000 (Mon, 13 Oct 2025) EndedAt: 2025-10-13 23:08:17 -0000 (Mon, 13 Oct 2025) EllapsedTime: 13.0 seconds RetCode: 0 Status: OK PackageFile: BiocStyle_2.36.0.tar.gz PackageFileSize: 825.1 KiB