Package: BiocSklearn Version: 1.32.0 Command: /home/biocbuild/bbs-3.22-bioc/R/bin/R CMD check --install=check:BiocSklearn.install-out.txt --library=/home/biocbuild/bbs-3.22-bioc/R/site-library --timings BiocSklearn_1.32.0.tar.gz StartedAt: 2025-11-11 21:38:27 -0500 (Tue, 11 Nov 2025) EndedAt: 2025-11-11 21:41:20 -0500 (Tue, 11 Nov 2025) EllapsedTime: 173.2 seconds RetCode: 0 Status: OK CheckDir: BiocSklearn.Rcheck Warnings: 0