Package: BiocSklearn Version: 1.32.0 Command: /home/biocbuild/bbs-3.22-bioc/R/bin/R CMD build --keep-empty-dirs --no-resave-data --md5 BiocSklearn StartedAt: 2025-11-11 16:34:16 -0500 (Tue, 11 Nov 2025) EndedAt: 2025-11-11 16:34:52 -0500 (Tue, 11 Nov 2025) EllapsedTime: 35.0 seconds RetCode: 0 Status: OK PackageFile: BiocSklearn_1.32.0.tar.gz PackageFileSize: 32.52 MiB