Package: BiocSklearn Version: 1.30.0 Command: /home/biocbuild/bbs-3.21-bioc/R/bin/R CMD INSTALL BiocSklearn StartedAt: 2025-10-15 15:17:15 -0400 (Wed, 15 Oct 2025) EndedAt: 2025-10-15 15:17:38 -0400 (Wed, 15 Oct 2025) EllapsedTime: 22.6 seconds RetCode: 0 Status: OK