Package: BiocSklearn Version: 1.30.0 Command: /home/biocbuild/bbs-3.21-bioc/R/bin/R CMD build --keep-empty-dirs --no-resave-data BiocSklearn StartedAt: 2025-10-15 16:26:08 -0400 (Wed, 15 Oct 2025) EndedAt: 2025-10-15 16:26:45 -0400 (Wed, 15 Oct 2025) EllapsedTime: 37.0 seconds RetCode: 0 Status: OK PackageFile: BiocSklearn_1.30.0.tar.gz PackageFileSize: 32.52 MiB