Package: BiocSklearn Version: 1.30.0 Command: /home/biocbuild/R/R/bin/R CMD INSTALL BiocSklearn StartedAt: 2025-09-25 20:31:41 -0000 (Thu, 25 Sep 2025) EndedAt: 2025-09-25 20:32:14 -0000 (Thu, 25 Sep 2025) EllapsedTime: 33.2 seconds RetCode: 0 Status: OK