Package: BiocSklearn Version: 1.30.0 Command: /home/biocbuild/R/R/bin/R CMD build --keep-empty-dirs --no-resave-data BiocSklearn StartedAt: 2025-09-25 23:09:41 -0000 (Thu, 25 Sep 2025) EndedAt: 2025-09-25 23:10:34 -0000 (Thu, 25 Sep 2025) EllapsedTime: 53.0 seconds RetCode: 0 Status: OK PackageFile: BiocSklearn_1.30.0.tar.gz PackageFileSize: 32.54 MiB