Package: BiocSklearn Version: 1.32.0 Maintainer: Vince Carey MaintainerEmail: stvjc at channing.harvard.edu git_url: https://git.bioconductor.org/packages/BiocSklearn git_branch: RELEASE_3_22 git_last_commit: b143900 git_last_commit_date: 2025-10-29 10:39:55 -0400 (Wed, 29 Oct 2025)