Package: BiocSingular Version: 1.26.0 Command: /home/biocbuild/bbs-3.22-bioc/R/bin/R CMD INSTALL BiocSingular StartedAt: 2025-11-11 15:58:25 -0500 (Tue, 11 Nov 2025) EndedAt: 2025-11-11 15:58:54 -0500 (Tue, 11 Nov 2025) EllapsedTime: 29.3 seconds RetCode: 0 Status: OK