Package: BiocSingular Version: 1.26.0 Command: /Library/Frameworks/R.framework/Resources/bin/R CMD INSTALL BiocSingular StartedAt: 2025-11-10 15:28:27 -0500 (Mon, 10 Nov 2025) EndedAt: 2025-11-10 15:28:37 -0500 (Mon, 10 Nov 2025) EllapsedTime: 10.1 seconds RetCode: 0 Status: OK