Package: BiocSingular Version: 1.26.0 Command: rm -rf BiocSingular.buildbin-libdir && mkdir BiocSingular.buildbin-libdir && /Users/biocbuild/BBS/utils/build-universal.sh BiocSingular_1.26.0.tar.gz /Library/Frameworks/R.framework/Resources/bin/R BiocSingular.buildbin-libdir StartedAt: 2025-11-10 23:12:44 -0500 (Mon, 10 Nov 2025) EndedAt: 2025-11-10 23:12:55 -0500 (Mon, 10 Nov 2025) EllapsedTime: 11.2 seconds RetCode: 0 Status: OK PackageFile: BiocSingular_1.26.0.tgz PackageFileSize: 927.6 KiB