Package: BiocSet Version: 1.24.0 Command: /home/biocbuild/bbs-3.22-bioc/R/bin/R CMD INSTALL BiocSet StartedAt: 2025-11-11 15:29:57 -0500 (Tue, 11 Nov 2025) EndedAt: 2025-11-11 15:30:13 -0500 (Tue, 11 Nov 2025) EllapsedTime: 15.7 seconds RetCode: 0 Status: OK