Package: BiocSet Version: 1.24.0 Command: /home/biocbuild/bbs-3.22-bioc/R/bin/R CMD build --keep-empty-dirs --no-resave-data --md5 BiocSet StartedAt: 2025-11-11 16:34:10 -0500 (Tue, 11 Nov 2025) EndedAt: 2025-11-11 16:36:10 -0500 (Tue, 11 Nov 2025) EllapsedTime: 119.2 seconds RetCode: 0 Status: OK PackageFile: BiocSet_1.24.0.tar.gz PackageFileSize: 362 KiB