Package: BiocSet Version: 1.22.0 Command: /home/biocbuild/bbs-3.21-bioc/R/bin/R CMD INSTALL BiocSet StartedAt: 2025-10-15 15:24:53 -0400 (Wed, 15 Oct 2025) EndedAt: 2025-10-15 15:25:08 -0400 (Wed, 15 Oct 2025) EllapsedTime: 15.5 seconds RetCode: 0 Status: OK