Package: BiocSet Version: 1.22.0 Command: /home/biocbuild/bbs-3.21-bioc/R/bin/R CMD build --keep-empty-dirs --no-resave-data BiocSet StartedAt: 2025-10-15 16:26:03 -0400 (Wed, 15 Oct 2025) EndedAt: 2025-10-15 16:27:51 -0400 (Wed, 15 Oct 2025) EllapsedTime: 108.1 seconds RetCode: 0 Status: OK PackageFile: BiocSet_1.22.0.tar.gz PackageFileSize: 359 KiB