Package: BiocSet Version: 1.22.0 Command: /home/biocbuild/R/R/bin/R CMD INSTALL BiocSet StartedAt: 2025-09-29 20:40:11 -0000 (Mon, 29 Sep 2025) EndedAt: 2025-09-29 20:40:34 -0000 (Mon, 29 Sep 2025) EllapsedTime: 22.4 seconds RetCode: 0 Status: OK