Package: BiocSet Version: 1.22.0 Command: /home/biocbuild/R/R/bin/R CMD build --keep-empty-dirs --no-resave-data BiocSet StartedAt: 2025-09-25 23:09:10 -0000 (Thu, 25 Sep 2025) EndedAt: 2025-09-25 23:11:46 -0000 (Thu, 25 Sep 2025) EllapsedTime: 156.0 seconds RetCode: 0 Status: OK PackageFile: BiocSet_1.22.0.tar.gz PackageFileSize: 427 KiB