Package: BiocSet Version: 1.24.0 Maintainer: Kayla Morrell MaintainerEmail: kayla.morrell16 at gmail.com git_url: https://git.bioconductor.org/packages/BiocSet git_branch: RELEASE_3_22 git_last_commit: f0c8b16 git_last_commit_date: 2025-10-29 10:55:47 -0400 (Wed, 29 Oct 2025)