Package: BiocPkgTools Version: 1.28.0 Command: /home/biocbuild/R/R/bin/R CMD build --keep-empty-dirs --no-resave-data BiocPkgTools StartedAt: 2025-11-14 00:01:48 -0000 (Fri, 14 Nov 2025) EndedAt: 2025-11-14 00:02:29 -0000 (Fri, 14 Nov 2025) EllapsedTime: 41.0 seconds RetCode: 1 Status: ERROR PackageFile: None PackageFileSize: NA