Package: BiocPkgTools Version: 1.28.0 Command: /home/biocbuild/bbs-3.22-bioc/R/bin/R CMD build --keep-empty-dirs --no-resave-data --md5 BiocPkgTools StartedAt: 2025-11-11 16:34:00 -0500 (Tue, 11 Nov 2025) EndedAt: 2025-11-11 16:34:25 -0500 (Tue, 11 Nov 2025) EllapsedTime: 25.0 seconds RetCode: 1 Status: ERROR PackageFile: None PackageFileSize: NA