Package: BiocPkgTools Version: 1.26.4 Command: /home/biocbuild/bbs-3.21-bioc/R/bin/R CMD INSTALL BiocPkgTools StartedAt: 2025-10-15 15:13:23 -0400 (Wed, 15 Oct 2025) EndedAt: 2025-10-15 15:13:34 -0400 (Wed, 15 Oct 2025) EllapsedTime: 10.5 seconds RetCode: 0 Status: OK