Package: BiocPkgTools Version: 1.26.4 Command: /home/biocbuild/bbs-3.21-bioc/R/bin/R CMD build --keep-empty-dirs --no-resave-data BiocPkgTools StartedAt: 2025-10-15 16:26:00 -0400 (Wed, 15 Oct 2025) EndedAt: 2025-10-15 16:30:38 -0400 (Wed, 15 Oct 2025) EllapsedTime: 278.3 seconds RetCode: 0 Status: OK PackageFile: BiocPkgTools_1.26.4.tar.gz PackageFileSize: 982.8 KiB