Package: BiocPkgTools Version: 1.26.4 Command: /home/biocbuild/R/R/bin/R CMD INSTALL BiocPkgTools StartedAt: 2025-09-25 20:27:18 -0000 (Thu, 25 Sep 2025) EndedAt: 2025-09-25 20:27:33 -0000 (Thu, 25 Sep 2025) EllapsedTime: 14.7 seconds RetCode: 0 Status: OK