Package: BiocPkgTools Version: 1.26.4 Command: /home/biocbuild/R/R/bin/R CMD build --keep-empty-dirs --no-resave-data BiocPkgTools StartedAt: 2025-09-25 23:07:59 -0000 (Thu, 25 Sep 2025) EndedAt: 2025-09-25 23:11:45 -0000 (Thu, 25 Sep 2025) EllapsedTime: 226.0 seconds RetCode: 0 Status: OK PackageFile: BiocPkgTools_1.26.4.tar.gz PackageFileSize: 1.618 MiB