Package: BiocPkgTools Version: 1.26.4 Command: /Library/Frameworks/R.framework/Resources/bin/R CMD build --keep-empty-dirs --no-resave-data BiocPkgTools StartedAt: 2025-10-13 20:00:30 -0400 (Mon, 13 Oct 2025) EndedAt: 2025-10-13 20:06:03 -0400 (Mon, 13 Oct 2025) EllapsedTime: 332.9 seconds RetCode: 0 Status: OK PackageFile: BiocPkgTools_1.26.4.tar.gz PackageFileSize: 982.7 KiB