Package: BiocParallel Version: 1.44.0 Command: /home/biocbuild/R/R/bin/R CMD INSTALL BiocParallel StartedAt: 2025-11-10 21:05:52 -0000 (Mon, 10 Nov 2025) EndedAt: 2025-11-10 21:06:22 -0000 (Mon, 10 Nov 2025) EllapsedTime: 30.0 seconds RetCode: 0 Status: OK