Package: BiocParallel Version: 1.44.0 Command: /home/biocbuild/R/R/bin/R CMD build --keep-empty-dirs --no-resave-data BiocParallel StartedAt: 2025-11-11 00:00:13 -0000 (Tue, 11 Nov 2025) EndedAt: 2025-11-11 00:01:59 -0000 (Tue, 11 Nov 2025) EllapsedTime: 106.1 seconds RetCode: 0 Status: OK PackageFile: BiocParallel_1.44.0.tar.gz PackageFileSize: 1.148 MiB