Package: BiocParallel Version: 1.42.1 Command: E:\biocbuild\bbs-3.21-bioc\R\bin\R.exe CMD INSTALL BiocParallel StartedAt: 2025-08-14 15:22:38 -0400 (Thu, 14 Aug 2025) EndedAt: 2025-08-14 15:26:45 -0400 (Thu, 14 Aug 2025) EllapsedTime: 246.6 seconds RetCode: 0 Status: OK