Package: BiocParallel Version: 1.42.1 Command: rm -rf BiocParallel.buildbin-libdir && mkdir BiocParallel.buildbin-libdir && E:\biocbuild\bbs-3.21-bioc\R\bin\R.exe CMD INSTALL --build --library=BiocParallel.buildbin-libdir BiocParallel_1.42.1.tar.gz StartedAt: 2025-08-15 08:51:11 -0400 (Fri, 15 Aug 2025) EndedAt: 2025-08-15 08:54:32 -0400 (Fri, 15 Aug 2025) EllapsedTime: 201.2 seconds RetCode: 0 Status: OK PackageFile: BiocParallel_1.42.1.zip PackageFileSize: 1.943 MiB