Package: BiocParallel Version: 1.44.0 Command: /home/biocbuild/bbs-3.22-bioc/R/bin/R CMD check --install=check:BiocParallel.install-out.txt --library=/home/biocbuild/bbs-3.22-bioc/R/site-library --timings BiocParallel_1.44.0.tar.gz StartedAt: 2025-11-11 21:38:00 -0500 (Tue, 11 Nov 2025) EndedAt: 2025-11-11 21:44:42 -0500 (Tue, 11 Nov 2025) EllapsedTime: 402.4 seconds RetCode: 0 Status: OK CheckDir: BiocParallel.Rcheck Warnings: 0